BEGIN:VCALENDAR
VERSION:2.0
PRODID:-//ExhibitionMatches.com//NONSGML v1.0//EN
BEGIN:VEVENT
UID=0D1F0111-D289-AF98-D70FD924F4DDDD0F
DTSTAMP=20260422T042623Z
DTSTART;VALUE=DATE:20260502
DTEND;VALUE=DATE:20260503
SUMMARY:4th Mat Return Open
LOCATION:Muhlenberg College, 2400 West Chew Street, Allentown, PA, 18104
DESCRIPTION:View full event details: https://wrestlingtournaments.org/view.cfm?ID=107163
Contact: John Bolich 215-589-5080 matreturnwrestling@gmail.com
URL;VALUE=URI:https://wrestlingtournaments.org/view.cfm?ID=107163
END:VEVENT
END:VCALENDAR