BEGIN:VCALENDAR
VERSION:2.0
PRODID:-//ExhibitionMatches.com//NONSGML v1.0//EN
BEGIN:VEVENT
UID=0BF15E5C-0624-D321-13A1FBEFE0606FF6
DTSTAMP=20260422T035326Z
DTSTART;VALUE=DATE:20260501
DTEND;VALUE=DATE:20260504
SUMMARY:2026 Ultimate Club Freestyle Duals
LOCATION:Pennsylvania Farm Show Complex &amp; Expo Center, 2300 N. Cameron St.,, Harrisburg, PA, 17110
DESCRIPTION:View full event details: https://wrestlingtournaments.org/view.cfm?ID=107155
Contact: Curt Krazer ultimateclubduals@gmail.com
URL;VALUE=URI:https://wrestlingtournaments.org/view.cfm?ID=107155
END:VEVENT
END:VCALENDAR