BEGIN:VCALENDAR
VERSION:2.0
PRODID:-//ExhibitionMatches.com//NONSGML v1.0//EN
BEGIN:VEVENT
UID=0C562C5B-98A5-43CC-04B728AEFA6F0738
DTSTAMP=20260422T040427Z
DTSTART;VALUE=DATE:20260516
DTEND;VALUE=DATE:20260517
SUMMARY:REAL 1 WRESTLING CHALLENGE
LOCATION:David L Lawrence Convention Center, 1000 Ft. Duquesne Boulevard, Pittsburgh, PA, 15222
DESCRIPTION:View full event details: https://wrestlingtournaments.org/view.cfm?ID=107001

URL;VALUE=URI:https://wrestlingtournaments.org/view.cfm?ID=107001
END:VEVENT
END:VCALENDAR